BEGIN:VCALENDAR
VERSION:2.0
PRODID:-//Forum for Economic Development Agenda - ECPv6.15.17.1//NONSGML v1.0//EN
CALSCALE:GREGORIAN
METHOD:PUBLISH
X-WR-CALNAME:Forum for Economic Development Agenda
X-ORIGINAL-URL:https://feda.co.ke/wp
X-WR-CALDESC:Events for Forum for Economic Development Agenda
REFRESH-INTERVAL;VALUE=DURATION:PT1H
X-Robots-Tag:noindex
X-PUBLISHED-TTL:PT1H
BEGIN:VTIMEZONE
TZID:Africa/Nairobi
BEGIN:STANDARD
TZOFFSETFROM:+0300
TZOFFSETTO:+0300
TZNAME:EAT
DTSTART:20240101T000000
END:STANDARD
END:VTIMEZONE
BEGIN:VEVENT
DTSTART;TZID=Africa/Nairobi:20250331T080000
DTEND;TZID=Africa/Nairobi:20250331T080000
DTSTAMP:20260425T154908
CREATED:20250117T165631Z
LAST-MODIFIED:20250218T133802Z
UID:143-1743408000-1743408000@feda.co.ke
SUMMARY:Party Launch
DESCRIPTION:This is to communicate to the public that we will be launching the party on 31st March 2025 at our party headquarters at House No. 75 Mbagathi Ridge off Bogani Road\, KAREN – Nairobi.  All are welcome. \nPlease reach us on email. Our email is info@feda.co.ke
URL:https://feda.co.ke/wp/event/party-launch/
LOCATION:Mbagathi Ridge\, House No. 75 Mbagathi Ridge off Bogani Road\, KAREN\, Nairobi\, Kenya
ORGANIZER;CN="FEDA":MAILTO:info@feda.co.ke
END:VEVENT
BEGIN:VEVENT
DTSTART;TZID=Africa/Nairobi:20250301T080000
DTEND;TZID=Africa/Nairobi:20250301T170000
DTSTAMP:20260425T154908
CREATED:20250218T131513Z
LAST-MODIFIED:20250218T133305Z
UID:346-1740816000-1740848400@feda.co.ke
SUMMARY:Website Launch
DESCRIPTION:This is to communicate to the public that we will be launching the party website on 1st March 2025 at our party headquarters at House No. 75 Mbagathi Ridge off Bogani Road\, KAREN – Nairobi.  All are welcome. \nPlease reach us on email. Our email is info@feda.co.ke
URL:https://feda.co.ke/wp/event/website-launch/
LOCATION:Mbagathi Ridge\, House No. 75 Mbagathi Ridge off Bogani Road\, KAREN\, Nairobi\, Kenya
ORGANIZER;CN="FEDA":MAILTO:info@feda.co.ke
END:VEVENT
END:VCALENDAR